BEGIN:VCALENDAR
VERSION:2.0
PRODID:-//Commission for Ecumenical &amp; Interfaith Relations - ECPv5.4.0//NONSGML v1.0//EN
CALSCALE:GREGORIAN
METHOD:PUBLISH
X-WR-CALNAME:Commission for Ecumenical &amp; Interfaith Relations
X-ORIGINAL-URL:https://www.aceir.org.au
X-WR-CALDESC:Events for Commission for Ecumenical &amp; Interfaith Relations
BEGIN:VTIMEZONE
TZID:Australia/Sydney
BEGIN:STANDARD
TZOFFSETFROM:+1100
TZOFFSETTO:+1000
TZNAME:AEST
DTSTART:20190406T160000
END:STANDARD
BEGIN:DAYLIGHT
TZOFFSETFROM:+1000
TZOFFSETTO:+1100
TZNAME:AEDT
DTSTART:20191005T160000
END:DAYLIGHT
END:VTIMEZONE
BEGIN:VEVENT
DTSTART;TZID=Australia/Sydney:20190829T180000
DTEND;TZID=Australia/Sydney:20190829T200000
DTSTAMP:20210227T121755
CREATED:20190805T043224Z
LAST-MODIFIED:20190805T043240Z
UID:368-1567101600-1567108800@www.aceir.org.au
SUMMARY:Ut Unum Sint Lecture 1: Australian Ecumenism Yesterday and Today
DESCRIPTION:
URL:https://www.aceir.org.au/event/ut-unum-sint-lecture-1-australian-ecumenism-yesterday-and-today/
LOCATION:The Peter Cosgrove Centre\, Level 18\, Tenison Woods House 8–20 Napier Street\, North Sydney\, NSW\, 2060\, Australia
ATTACH;FMTTYPE=image/jpeg:https://www.aceir.org.au/sysweb/wp-content/uploads/2019/08/aaron-burden-5c5VcFshOds-unsplash.jpg
END:VEVENT
END:VCALENDAR