BEGIN:VCALENDAR
VERSION:2.0
PRODID:-//Commission for Ecumenical &amp; Interfaith Relations - ECPv5.4.0//NONSGML v1.0//EN
CALSCALE:GREGORIAN
METHOD:PUBLISH
X-WR-CALNAME:Commission for Ecumenical &amp; Interfaith Relations
X-ORIGINAL-URL:https://www.aceir.org.au
X-WR-CALDESC:Events for Commission for Ecumenical &amp; Interfaith Relations
BEGIN:VTIMEZONE
TZID:UTC
BEGIN:STANDARD
TZOFFSETFROM:+0000
TZOFFSETTO:+0000
TZNAME:UTC
DTSTART:20180101T000000
END:STANDARD
END:VTIMEZONE
BEGIN:VEVENT
DTSTART;TZID=UTC:20180606T170000
DTEND;TZID=UTC:20180606T190000
DTSTAMP:20210227T121710
CREATED:20180418T143646Z
LAST-MODIFIED:20180418T160818Z
UID:62-1528304400-1528311600@www.aceir.org.au
SUMMARY:Iftar Dinner
DESCRIPTION:For years the Archdiocese of Sydney has enjoyed strong interfaith and ecumenical relations with the various faith communities and the annual Iftar dinner expresses the friendship and mutual respect particularly between Catholic leaders and those of the Islamic faith and generally amongst people of faith.
URL:https://www.aceir.org.au/event/iftar-dinner/
ATTACH;FMTTYPE=image/jpeg:https://www.aceir.org.au/sysweb/wp-content/uploads/2018/04/Abp_Iftar-Dinner.jpg
END:VEVENT
END:VCALENDAR