BEGIN:VCALENDAR
VERSION:2.0
PRODID:-//Commission for Ecumenical &amp; Interfaith Relations - ECPv5.4.0//NONSGML v1.0//EN
CALSCALE:GREGORIAN
METHOD:PUBLISH
X-WR-CALNAME:Commission for Ecumenical &amp; Interfaith Relations
X-ORIGINAL-URL:https://www.aceir.org.au
X-WR-CALDESC:Events for Commission for Ecumenical &amp; Interfaith Relations
BEGIN:VTIMEZONE
TZID:Australia/Melbourne
BEGIN:STANDARD
TZOFFSETFROM:+1100
TZOFFSETTO:+1000
TZNAME:AEST
DTSTART:20180331T160000
END:STANDARD
BEGIN:DAYLIGHT
TZOFFSETFROM:+1000
TZOFFSETTO:+1100
TZNAME:AEDT
DTSTART:20181006T160000
END:DAYLIGHT
END:VTIMEZONE
BEGIN:VEVENT
DTSTART;TZID=Australia/Melbourne:20180718T100000
DTEND;TZID=Australia/Melbourne:20180718T170000
DTSTAMP:20210227T121726
CREATED:20180418T143252Z
LAST-MODIFIED:20180418T160845Z
UID:57-1531908000-1531933200@www.aceir.org.au
SUMMARY:500th Anniversary of the Reformation
DESCRIPTION:Join Archbishop Anthony Fisher for the 500th Anniversary of the Reformation Commemoration Event.
URL:https://www.aceir.org.au/event/500th-anniversary-of-the-reformation/
ATTACH;FMTTYPE=image/jpeg:https://www.aceir.org.au/sysweb/wp-content/uploads/2018/04/Homepage-SrGiovanni-duo.jpg
END:VEVENT
END:VCALENDAR